BEGIN:VCALENDAR
VERSION:2.0
PRODID:-//Unterliga Ost - ECPv6.0.10//NONSGML v1.0//EN
CALSCALE:GREGORIAN
METHOD:PUBLISH
X-WR-CALNAME:Unterliga Ost
X-ORIGINAL-URL:https://ulost.stocksport.cc
X-WR-CALDESC:Veranstaltungen für Unterliga Ost
REFRESH-INTERVAL;VALUE=DURATION:PT1H
X-Robots-Tag:noindex
X-PUBLISHED-TTL:PT1H
BEGIN:VTIMEZONE
TZID:Europe/Vienna
BEGIN:DAYLIGHT
TZOFFSETFROM:+0100
TZOFFSETTO:+0200
TZNAME:CEST
DTSTART:20220327T010000
END:DAYLIGHT
BEGIN:STANDARD
TZOFFSETFROM:+0200
TZOFFSETTO:+0100
TZNAME:CET
DTSTART:20221030T010000
END:STANDARD
END:VTIMEZONE
BEGIN:VEVENT
DTSTART;TZID=Europe/Vienna:20220102T080000
DTEND;TZID=Europe/Vienna:20220102T120000
DTSTAMP:20260421T125554
CREATED:20211004T073827Z
LAST-MODIFIED:20211124T090641Z
UID:30655-1641110400-1641124800@ulost.stocksport.cc
SUMMARY:BM Herren
DESCRIPTION:
URL:https://ulost.stocksport.cc/event/bm-herren/
LOCATION:Stocksporthalle Wenigzell\, Sommersgut 109\, 8254 Wenigzell\, Steiermark\, Österreich
END:VEVENT
BEGIN:VEVENT
DTSTART;TZID=Europe/Vienna:20220108T070000
DTEND;TZID=Europe/Vienna:20220108T140000
DTSTAMP:20260421T125554
CREATED:20211004T074006Z
LAST-MODIFIED:20211004T074006Z
UID:30658-1641625200-1641650400@ulost.stocksport.cc
SUMMARY:OL Herren VR
DESCRIPTION:
URL:https://ulost.stocksport.cc/event/ol-herren-vr/
LOCATION:Stadthalle Weiz\, Weiz\, Steiermark\, Österreich
END:VEVENT
BEGIN:VEVENT
DTSTART;TZID=Europe/Vienna:20220109T070000
DTEND;TZID=Europe/Vienna:20220109T130000
DTSTAMP:20260421T125554
CREATED:20211004T074124Z
LAST-MODIFIED:20211004T074124Z
UID:30660-1641711600-1641733200@ulost.stocksport.cc
SUMMARY:OL Herren Finale
DESCRIPTION:
URL:https://ulost.stocksport.cc/event/ol-herren-finale/
LOCATION:Stadthalle Weiz\, Weiz\, Steiermark\, Österreich
END:VEVENT
BEGIN:VEVENT
DTSTART;TZID=Europe/Vienna:20220115T064500
DTEND;TZID=Europe/Vienna:20220115T130000
DTSTAMP:20260421T125554
CREATED:20211004T074346Z
LAST-MODIFIED:20211004T074346Z
UID:30662-1642229100-1642251600@ulost.stocksport.cc
SUMMARY:KL Ost Sen Ü50 Gr A+B
DESCRIPTION:
URL:https://ulost.stocksport.cc/event/kl-ost-sen-ue50-gr-ab/
LOCATION:Stadthalle Weiz\, Weiz\, Steiermark\, Österreich
END:VEVENT
BEGIN:VEVENT
DTSTART;TZID=Europe/Vienna:20220116T064500
DTEND;TZID=Europe/Vienna:20220116T130000
DTSTAMP:20260421T125554
CREATED:20211004T074621Z
LAST-MODIFIED:20211004T074621Z
UID:30664-1642315500-1642338000@ulost.stocksport.cc
SUMMARY:KL Ost Sen Ü50 Gr C+D
DESCRIPTION:
URL:https://ulost.stocksport.cc/event/kl-ost-sen-ue50-gr-cd/
LOCATION:Stadthalle Weiz\, Weiz\, Steiermark\, Österreich
END:VEVENT
BEGIN:VEVENT
DTSTART;TZID=Europe/Vienna:20220123T064500
DTEND;TZID=Europe/Vienna:20220123T130000
DTSTAMP:20260421T125554
CREATED:20211004T074741Z
LAST-MODIFIED:20211004T074741Z
UID:30666-1642920300-1642942800@ulost.stocksport.cc
SUMMARY:UL Sen Ü50
DESCRIPTION:
URL:https://ulost.stocksport.cc/event/ul-sen-ue50/
LOCATION:Stadthalle Weiz\, Weiz\, Steiermark\, Österreich
END:VEVENT
BEGIN:VEVENT
DTSTART;TZID=Europe/Vienna:20220123T064500
DTEND;TZID=Europe/Vienna:20220123T130000
DTSTAMP:20260421T125554
CREATED:20211004T074913Z
LAST-MODIFIED:20211010T125803Z
UID:30668-1642920300-1642942800@ulost.stocksport.cc
SUMMARY:Herren Vorbereitungsturnier UL Ost
DESCRIPTION:Ausschreibung Turnier UL Ost 2022
URL:https://ulost.stocksport.cc/event/vorbereitungs-turnier/
LOCATION:Stadthalle Weiz\, Weiz\, Steiermark\, Österreich
END:VEVENT
BEGIN:VEVENT
DTSTART;TZID=Europe/Vienna:20220129T064500
DTEND;TZID=Europe/Vienna:20220129T130000
DTSTAMP:20260421T125554
CREATED:20211004T075119Z
LAST-MODIFIED:20211004T075119Z
UID:30670-1643438700-1643461200@ulost.stocksport.cc
SUMMARY:BM Herren
DESCRIPTION:
URL:https://ulost.stocksport.cc/event/bm-herren-2/
LOCATION:Stadthalle Weiz\, Weiz\, Steiermark\, Österreich
END:VEVENT
BEGIN:VEVENT
DTSTART;TZID=Europe/Vienna:20220130T064500
DTEND;TZID=Europe/Vienna:20220130T130000
DTSTAMP:20260421T125554
CREATED:20211004T075326Z
LAST-MODIFIED:20211004T075326Z
UID:30673-1643525100-1643547600@ulost.stocksport.cc
SUMMARY:BM Herren
DESCRIPTION:
URL:https://ulost.stocksport.cc/event/bm-herren-3/
LOCATION:Stadthalle Weiz\, Weiz\, Steiermark\, Österreich
END:VEVENT
BEGIN:VEVENT
DTSTART;TZID=Europe/Vienna:20220130T064500
DTEND;TZID=Europe/Vienna:20220130T130000
DTSTAMP:20260421T125554
CREATED:20211010T125454Z
LAST-MODIFIED:20211010T125454Z
UID:30944-1643525100-1643547600@ulost.stocksport.cc
SUMMARY:Herren Vorbereitungsturnier BV Hartberg Süd
DESCRIPTION:BV Hartberg Süd Vorbereitungsturnier
URL:https://ulost.stocksport.cc/event/herren-vorbereitungsturnier-bv-hartberg-sued/
LOCATION:Stadthalle Weiz\, Weiz\, Steiermark\, Österreich
END:VEVENT
END:VCALENDAR