BEGIN:VCALENDAR
VERSION:2.0
PRODID:-//Unterliga Ost - ECPv6.0.10//NONSGML v1.0//EN
CALSCALE:GREGORIAN
METHOD:PUBLISH
X-WR-CALNAME:Unterliga Ost
X-ORIGINAL-URL:https://ulost.stocksport.cc
X-WR-CALDESC:Veranstaltungen für Unterliga Ost
REFRESH-INTERVAL;VALUE=DURATION:PT1H
X-Robots-Tag:noindex
X-PUBLISHED-TTL:PT1H
BEGIN:VTIMEZONE
TZID:Europe/Vienna
BEGIN:DAYLIGHT
TZOFFSETFROM:+0100
TZOFFSETTO:+0200
TZNAME:CEST
DTSTART:20210328T010000
END:DAYLIGHT
BEGIN:STANDARD
TZOFFSETFROM:+0200
TZOFFSETTO:+0100
TZNAME:CET
DTSTART:20211031T010000
END:STANDARD
END:VTIMEZONE
BEGIN:VEVENT
DTSTART;TZID=Europe/Vienna:20211218T064500
DTEND;TZID=Europe/Vienna:20211218T140000
DTSTAMP:20260421T113044
CREATED:20211004T072836Z
LAST-MODIFIED:20211004T072836Z
UID:30647-1639809900-1639836000@ulost.stocksport.cc
SUMMARY:UL Ost Herren VR
DESCRIPTION:
URL:https://ulost.stocksport.cc/event/ul-ost-herren-vr/
LOCATION:Stadthalle Weiz\, Weiz\, Steiermark\, Österreich
END:VEVENT
BEGIN:VEVENT
DTSTART;TZID=Europe/Vienna:20211219T073000
DTEND;TZID=Europe/Vienna:20211219T130000
DTSTAMP:20260421T113044
CREATED:20211004T073011Z
LAST-MODIFIED:20211004T082241Z
UID:30649-1639899000-1639918800@ulost.stocksport.cc
SUMMARY:UL Ost Herren Finale
DESCRIPTION:
URL:https://ulost.stocksport.cc/event/ul-ost-finale/
LOCATION:Stadthalle Weiz\, Weiz\, Steiermark\, Österreich
END:VEVENT
BEGIN:VEVENT
DTSTART;TZID=Europe/Vienna:20211226T070000
DTEND;TZID=Europe/Vienna:20211226T130000
DTSTAMP:20260421T113044
CREATED:20211004T073309Z
LAST-MODIFIED:20211004T073309Z
UID:30651-1640502000-1640523600@ulost.stocksport.cc
SUMMARY:Union LM Herren
DESCRIPTION:
URL:https://ulost.stocksport.cc/event/union-lm-herren/
LOCATION:Stadthalle Weiz\, Weiz\, Steiermark\, Österreich
END:VEVENT
END:VCALENDAR